BEGIN:VCALENDAR
VERSION:2.0
PRODID:-//SC Eintracht Hamm e.V. - ECPv6.15.20//NONSGML v1.0//EN
CALSCALE:GREGORIAN
METHOD:PUBLISH
X-WR-CALNAME:SC Eintracht Hamm e.V.
X-ORIGINAL-URL:https://sce-hamm.de
X-WR-CALDESC:Veranstaltungen für SC Eintracht Hamm e.V.
REFRESH-INTERVAL;VALUE=DURATION:PT1H
X-Robots-Tag:noindex
X-PUBLISHED-TTL:PT1H
BEGIN:VTIMEZONE
TZID:Europe/Berlin
BEGIN:DAYLIGHT
TZOFFSETFROM:+0100
TZOFFSETTO:+0200
TZNAME:CEST
DTSTART:20230326T010000
END:DAYLIGHT
BEGIN:STANDARD
TZOFFSETFROM:+0200
TZOFFSETTO:+0100
TZNAME:CET
DTSTART:20231029T010000
END:STANDARD
BEGIN:DAYLIGHT
TZOFFSETFROM:+0100
TZOFFSETTO:+0200
TZNAME:CEST
DTSTART:20240331T010000
END:DAYLIGHT
BEGIN:STANDARD
TZOFFSETFROM:+0200
TZOFFSETTO:+0100
TZNAME:CET
DTSTART:20241027T010000
END:STANDARD
BEGIN:DAYLIGHT
TZOFFSETFROM:+0100
TZOFFSETTO:+0200
TZNAME:CEST
DTSTART:20250330T010000
END:DAYLIGHT
BEGIN:STANDARD
TZOFFSETFROM:+0200
TZOFFSETTO:+0100
TZNAME:CET
DTSTART:20251026T010000
END:STANDARD
END:VTIMEZONE
BEGIN:VEVENT
DTSTART;VALUE=DATE:20240908
DTEND;VALUE=DATE:20240909
DTSTAMP:20260425T122750
CREATED:20240131T113256Z
LAST-MODIFIED:20240131T113256Z
UID:919-1725753600-1725839999@sce-hamm.de
SUMMARY:Kreismehrkampfmeisterschaften
DESCRIPTION:
URL:https://sce-hamm.de/event/kreismehrkampfmeisterschaften-2
CATEGORIES:Wettkämpfe
END:VEVENT
BEGIN:VEVENT
DTSTART;VALUE=DATE:20240914
DTEND;VALUE=DATE:20240915
DTSTAMP:20260425T122750
CREATED:20240131T113323Z
LAST-MODIFIED:20240131T113323Z
UID:921-1726272000-1726358399@sce-hamm.de
SUMMARY:FLVW Meisterschaften U14
DESCRIPTION:
URL:https://sce-hamm.de/event/flvw-meisterschaften-u14
END:VEVENT
BEGIN:VEVENT
DTSTART;VALUE=DATE:20240922
DTEND;VALUE=DATE:20240923
DTSTAMP:20260425T122750
CREATED:20240109T113817Z
LAST-MODIFIED:20240109T113817Z
UID:875-1726963200-1727049599@sce-hamm.de
SUMMARY:Michaelissportfest
DESCRIPTION:
URL:https://sce-hamm.de/event/michaelissportfest-2
LOCATION:Heinrich-Buchgeister-Stadion\, Höppe 8\, Werl\, 59457\, Deutschland
CATEGORIES:Wettkämpfe
END:VEVENT
END:VCALENDAR