BEGIN:VCALENDAR
VERSION:2.0
PRODID:-//SC Eintracht Hamm e.V. - ECPv6.15.20//NONSGML v1.0//EN
CALSCALE:GREGORIAN
METHOD:PUBLISH
X-ORIGINAL-URL:https://sce-hamm.de
X-WR-CALDESC:Veranstaltungen für SC Eintracht Hamm e.V.
REFRESH-INTERVAL;VALUE=DURATION:PT1H
X-Robots-Tag:noindex
X-PUBLISHED-TTL:PT1H
BEGIN:VTIMEZONE
TZID:Europe/Berlin
BEGIN:DAYLIGHT
TZOFFSETFROM:+0100
TZOFFSETTO:+0200
TZNAME:CEST
DTSTART:20230326T010000
END:DAYLIGHT
BEGIN:STANDARD
TZOFFSETFROM:+0200
TZOFFSETTO:+0100
TZNAME:CET
DTSTART:20231029T010000
END:STANDARD
BEGIN:DAYLIGHT
TZOFFSETFROM:+0100
TZOFFSETTO:+0200
TZNAME:CEST
DTSTART:20240331T010000
END:DAYLIGHT
BEGIN:STANDARD
TZOFFSETFROM:+0200
TZOFFSETTO:+0100
TZNAME:CET
DTSTART:20241027T010000
END:STANDARD
BEGIN:DAYLIGHT
TZOFFSETFROM:+0100
TZOFFSETTO:+0200
TZNAME:CEST
DTSTART:20250330T010000
END:DAYLIGHT
BEGIN:STANDARD
TZOFFSETFROM:+0200
TZOFFSETTO:+0100
TZNAME:CET
DTSTART:20251026T010000
END:STANDARD
END:VTIMEZONE
BEGIN:VEVENT
DTSTART;TZID=Europe/Berlin:20240704T163000
DTEND;TZID=Europe/Berlin:20240704T200000
DTSTAMP:20260425T160347
CREATED:20240131T113159Z
LAST-MODIFIED:20240131T113159Z
UID:916-1720110600-1720123200@sce-hamm.de
SUMMARY:Abschluss und Sportabzeichennachmittag
DESCRIPTION:
URL:https://sce-hamm.de/event/abschluss-und-sportabzeichennachmittag
LOCATION:Jahnstadion\, Jürgen-Graef-Allee 10\, Hamm\, 59065
END:VEVENT
BEGIN:VEVENT
DTSTART;VALUE=DATE:20240706
DTEND;VALUE=DATE:20240707
DTSTAMP:20260425T160347
CREATED:20240131T113347Z
LAST-MODIFIED:20240131T113347Z
UID:871-1720224000-1720310399@sce-hamm.de
SUMMARY:Kreislangstaffelmeisterschaften
DESCRIPTION:
URL:https://sce-hamm.de/event/kreislangstaffelmeisterschaften-2
END:VEVENT
END:VCALENDAR