BEGIN:VCALENDAR
VERSION:2.0
PRODID:-//SC Eintracht Hamm e.V. - ECPv6.15.20//NONSGML v1.0//EN
CALSCALE:GREGORIAN
METHOD:PUBLISH
X-WR-CALNAME:SC Eintracht Hamm e.V.
X-ORIGINAL-URL:https://sce-hamm.de
X-WR-CALDESC:Veranstaltungen für SC Eintracht Hamm e.V.
REFRESH-INTERVAL;VALUE=DURATION:PT1H
X-Robots-Tag:noindex
X-PUBLISHED-TTL:PT1H
BEGIN:VTIMEZONE
TZID:Europe/Berlin
BEGIN:DAYLIGHT
TZOFFSETFROM:+0100
TZOFFSETTO:+0200
TZNAME:CEST
DTSTART:20230326T010000
END:DAYLIGHT
BEGIN:STANDARD
TZOFFSETFROM:+0200
TZOFFSETTO:+0100
TZNAME:CET
DTSTART:20231029T010000
END:STANDARD
BEGIN:DAYLIGHT
TZOFFSETFROM:+0100
TZOFFSETTO:+0200
TZNAME:CEST
DTSTART:20240331T010000
END:DAYLIGHT
BEGIN:STANDARD
TZOFFSETFROM:+0200
TZOFFSETTO:+0100
TZNAME:CET
DTSTART:20241027T010000
END:STANDARD
BEGIN:DAYLIGHT
TZOFFSETFROM:+0100
TZOFFSETTO:+0200
TZNAME:CEST
DTSTART:20250330T010000
END:DAYLIGHT
BEGIN:STANDARD
TZOFFSETFROM:+0200
TZOFFSETTO:+0100
TZNAME:CET
DTSTART:20251026T010000
END:STANDARD
END:VTIMEZONE
BEGIN:VEVENT
DTSTART;VALUE=DATE:20240609
DTEND;VALUE=DATE:20240610
DTSTAMP:20260425T174835
CREATED:20240131T112434Z
LAST-MODIFIED:20240131T112434Z
UID:861-1717891200-1717977599@sce-hamm.de
SUMMARY:FLVW Meisterschaften I
DESCRIPTION:
URL:https://sce-hamm.de/event/flvw-meisterschaften-i
LOCATION:Stadion Hacheney\, Stettiner Str. 6\, Dortmund\, 44263
CATEGORIES:Wettkämpfe
END:VEVENT
BEGIN:VEVENT
DTSTART;VALUE=DATE:20240615
DTEND;VALUE=DATE:20240617
DTSTAMP:20260425T174835
CREATED:20240109T113302Z
LAST-MODIFIED:20240131T112614Z
UID:863-1718409600-1718582399@sce-hamm.de
SUMMARY:FLVW Meisterschaften II & III
DESCRIPTION:
URL:https://sce-hamm.de/event/flvw-meisterschaften-ii-iii
LOCATION:Stadion Gladbeck\, Bohmerstr.\, Gladbeck\, 45964
CATEGORIES:Wettkämpfe
END:VEVENT
BEGIN:VEVENT
DTSTART;VALUE=DATE:20240623
DTEND;VALUE=DATE:20240624
DTSTAMP:20260425T174835
CREATED:20240109T113333Z
LAST-MODIFIED:20240109T113333Z
UID:866-1719100800-1719187199@sce-hamm.de
SUMMARY:Kreiseinzelmeisterschaften
DESCRIPTION:
URL:https://sce-hamm.de/event/kreiseinzelmeisterschaften
CATEGORIES:Wettkämpfe
END:VEVENT
BEGIN:VEVENT
DTSTART;VALUE=DATE:20240630
DTEND;VALUE=DATE:20240701
DTSTAMP:20260425T174835
CREATED:20240109T113533Z
LAST-MODIFIED:20240109T113533Z
UID:868-1719705600-1719791999@sce-hamm.de
SUMMARY:Schülersportfest
DESCRIPTION:
URL:https://sce-hamm.de/event/schuelersportfest-2
LOCATION:Heinrich-Buchgeister-Stadion\, Höppe 8\, Werl\, 59457\, Deutschland
CATEGORIES:Wettkämpfe
END:VEVENT
END:VCALENDAR